BEGIN:VCALENDAR
VERSION:2.0
PRODID:-//Brain - ECPv6.15.18//NONSGML v1.0//EN
CALSCALE:GREGORIAN
METHOD:PUBLISH
X-ORIGINAL-URL:https://brain.uci.edu
X-WR-CALDESC:Events for Brain
REFRESH-INTERVAL;VALUE=DURATION:PT1H
X-Robots-Tag:noindex
X-PUBLISHED-TTL:PT1H
BEGIN:VTIMEZONE
TZID:America/Los_Angeles
BEGIN:DAYLIGHT
TZOFFSETFROM:-0800
TZOFFSETTO:-0700
TZNAME:PDT
DTSTART:20230312T100000
END:DAYLIGHT
BEGIN:STANDARD
TZOFFSETFROM:-0700
TZOFFSETTO:-0800
TZNAME:PST
DTSTART:20231105T090000
END:STANDARD
BEGIN:DAYLIGHT
TZOFFSETFROM:-0800
TZOFFSETTO:-0700
TZNAME:PDT
DTSTART:20240310T100000
END:DAYLIGHT
BEGIN:STANDARD
TZOFFSETFROM:-0700
TZOFFSETTO:-0800
TZNAME:PST
DTSTART:20241103T090000
END:STANDARD
BEGIN:DAYLIGHT
TZOFFSETFROM:-0800
TZOFFSETTO:-0700
TZNAME:PDT
DTSTART:20250309T100000
END:DAYLIGHT
BEGIN:STANDARD
TZOFFSETFROM:-0700
TZOFFSETTO:-0800
TZNAME:PST
DTSTART:20251102T090000
END:STANDARD
END:VTIMEZONE
BEGIN:VEVENT
DTSTART;TZID=America/Los_Angeles:20240206T110000
DTEND;TZID=America/Los_Angeles:20240206T120000
DTSTAMP:20260421T031403
CREATED:20231009T213853Z
LAST-MODIFIED:20231205T181600Z
UID:10000431-1707217200-1707220800@brain.uci.edu
SUMMARY:Elizabeth A. Buffalo\, Ph.D.
DESCRIPTION:CNLM Colloquium Series \nJoin the Center for the Neurobiology of Learning and Memory (CNLM) for a hybrid event featuring Dr. Elizabeth A. Buffalo\, professor and chair of physiology and biophysics at the University of Washington. \nThis event will be held in-person in the Herklotz Conference Center and virtually via Zoom. \nNeural Dynamics of Memory Formation in the Primate Hippocampus  \n \nDescription:  \nOur understanding of the hippocampus has been framed by two landmark discoveries: the discovery by Scoville and Millner that hippocampal damage causes profound and persistent amnesia and the discovery by O’Keefe and Dostrovsky of hippocampal place cells in rodents. However\, it has been unclear to what extent spatial representations are present in the primate brain and how to reconcile these representations with the known mnemonic function of this region. I will discuss a series of experiments that have examined neural activity in the hippocampus in monkeys performing behavioral tasks including foraging and spatial memory tasks in a virtual environment. These data demonstrate that behavioral task structure has a significant influence on hippocampal activity\, with neurons responding to all salient events within the task. Taken together\, these data are consistent with the idea that activity in the hippocampus tracks ongoing experience in support of memory formation.
URL:https://brain.uci.edu/event/elizabeth-buffalo-ph-d/
LOCATION:CNLM Herklotz Conference Center and Virtually via Zoom
CATEGORIES:Faculty,Scientific,Staff,Students,Students, Faculty, Staff Only
ATTACH;FMTTYPE=image/jpeg:https://brain.uci.edu/wp-content/uploads/sites/49/2023/10/beth-buffalo-250.jpg
ORGANIZER;CN="UCI Center for the Neurobiology of Learning and Memory":MAILTO:memory@uci.edu
END:VEVENT
BEGIN:VEVENT
DTSTART;TZID=America/Los_Angeles:20240213T110000
DTEND;TZID=America/Los_Angeles:20240213T120000
DTSTAMP:20260421T031403
CREATED:20240124T220420Z
LAST-MODIFIED:20240125T233901Z
UID:10000459-1707822000-1707825600@brain.uci.edu
SUMMARY:Katalin Gothard\, Ph.D.
DESCRIPTION:Join Dr. Katalin Gothard in the James L. McGaugh Distinguished Seminar Series In-Person or over Zoom! \n“A context-dependent switch from sensing to feeling in the primate amygdala”\n\nKatalin M. Gothard\, M.D.\, Ph.D.\nProfessor of Physiology\, Neurology\, and Neuroscience The University of Arizona College of Medicine Department of Physiology \nAbstract: \nTactile signals elicited in the periphery by social and affective touch acquire emotional significance in the brain. As the amygdala processes the valence of all sensory stimuli\, we predicted that the positive valence of grooming would strongly activate the monkey amygdala. To test this hypothesis\, we compared neural activity in the amygdala and the primary somatosensory cortex in response to social grooming and gentle airflow delivered to the same areas of the skin. Neurons in the somatosensory cortex responded to both types of tactile stimuli. In the amygdala\, however\, neurons did not respond to individual grooming sweeps even though grooming elicited autonomic states indicative of positive affect. Instead of responses to individual touch stimuli\, a large proportion of neurons showed enhanced or suppressed baseline firing rates that persisted throughout a grooming bout. These changes were attributed to social context because the presence of the groomer alone could account for increases or decreases in baseline firing rates. It appears\, therefore\, that during grooming\, the amygdala stops responding to external inputs on a short time scale but remains responsive to social context\, and the associated affective states\, on longer time scales.
URL:https://brain.uci.edu/event/james-l-mcgaugh-distinguished-seminar-series/
LOCATION:CNLM Herklotz Conference Center and Virtually via Zoom
ATTACH;FMTTYPE=image/png:https://brain.uci.edu/wp-content/uploads/sites/49/2024/01/Untitled-design-6.png
END:VEVENT
BEGIN:VEVENT
DTSTART;TZID=America/Los_Angeles:20240215T100000
DTEND;TZID=America/Los_Angeles:20240215T110000
DTSTAMP:20260421T031403
CREATED:20240125T184404Z
LAST-MODIFIED:20240125T234347Z
UID:10000462-1707991200-1707994800@brain.uci.edu
SUMMARY:Sandeep Robert Datta\, MD\, PhD
DESCRIPTION:Professor of Neurobiology Sandeep Robert Datta\, MD\, PhD from Harvard Medical School presents: \n“Using Machine Learning to Discover How the Brain Builds Behavior” \nHybrid: ISEB 1200 & Zoom
URL:https://brain.uci.edu/event/sandeep-robert-datta-md-phd/
LOCATION:Interdisciplinary Science and Engineering Building (ISEB) and Virtually Via Zoom\, 419 Physical Sciences Quad\, Irvine\, 92697\, United States
ATTACH;FMTTYPE=image/png:https://brain.uci.edu/wp-content/uploads/sites/49/2024/01/Untitled-design-13.png
END:VEVENT
BEGIN:VEVENT
DTSTART;TZID=America/Los_Angeles:20240215T110000
DTEND;TZID=America/Los_Angeles:20240215T120000
DTSTAMP:20260421T031403
CREATED:20240202T182333Z
LAST-MODIFIED:20240202T182333Z
UID:10000477-1707994800-1707998400@brain.uci.edu
SUMMARY:Garret Anderson\, PhD
DESCRIPTION:The department of Anatomy & Neurobiology will host guest speaker Garret Anderson from UC Riverside\, who will give a talk on ““Latrophilin cell-type specific expression and implications for neural circuit development”
URL:https://brain.uci.edu/event/garret-anderson-phd/
LOCATION:Plumwood House\, 1003 Health Sciences Rd\, Irvine\, CA 92617\, Irvine\, CA\, 92697\, United States
CATEGORIES:Community,Faculty,Scientific,Staff,Students
ATTACH;FMTTYPE=image/png:https://brain.uci.edu/wp-content/uploads/sites/49/2024/02/Capture.png
END:VEVENT
BEGIN:VEVENT
DTSTART;TZID=America/Los_Angeles:20240220T100000
DTEND;TZID=America/Los_Angeles:20240220T110000
DTSTAMP:20260421T031403
CREATED:20240125T191348Z
LAST-MODIFIED:20240125T235133Z
UID:10000463-1708423200-1708426800@brain.uci.edu
SUMMARY:Michelle Jones-London\, PhD
DESCRIPTION:Chief of Office of Programs to Enhance Neuroscience Workforce Diversity Michelle Jones-London\, PhD from NIH/NINDS presents: \n“An OPEN Conversation: NINDS Strategies for Enhancing the Diversity of Neuroscience Researchers” \nHybrid: ISEB 1200 & Zoom \n 
URL:https://brain.uci.edu/event/michelle-jones-london-phd/
LOCATION:Interdisciplinary Science and Engineering Building (ISEB) and Virtually Via Zoom\, 419 Physical Sciences Quad\, Irvine\, 92697\, United States
ATTACH;FMTTYPE=image/png:https://brain.uci.edu/wp-content/uploads/sites/49/2024/01/Untitled-design-12.png
END:VEVENT
BEGIN:VEVENT
DTSTART;TZID=America/Los_Angeles:20240223T110000
DTEND;TZID=America/Los_Angeles:20240223T120000
DTSTAMP:20260421T031403
CREATED:20240129T160947Z
LAST-MODIFIED:20240129T161317Z
UID:10000471-1708686000-1708689600@brain.uci.edu
SUMMARY:Frances Wiseman\, PhD
DESCRIPTION:The CFAR-DS Research Seminar Series hosts scientists from UC Irvine and beyond who conduct research focused on Down syndrome\, including research ranging from human participants to animal models. This seminar series is intended for scientists\, although all are welcome to attend. \nOn Friday\, February 23\, 2024 at 11:00 am Pacific Time please join us via Zoom for a presentation by Frances Wiseman\, PhD titled “Understanding differences in Down syndrome – Alzheimer’s disease: a focus on amyloid-β formation and response.” \nFrances Wiseman\, PhD is Programme Leader for Animal Models at the UK Dementia Research Institute. Dr Wiseman will discuss her group’s recent research using combinations of Down syndrome and amyloid-β accumulation mouse models; to understand how additional copies of chromosome 21 genes other than APP may modulate Alzheimer’s disease development in people who have Down syndrome. This will include a discussion of Mumford et al 2022\, PMID: 35835549 and recent follow-up unpublished data examining the interferon amyloid-β response in a new mouse model of Down syndrome-Alzheimer’s disease.
URL:https://brain.uci.edu/event/uci-center-for-aging-research-in-down-syndrome-seminar/
LOCATION:Zoom\, Irvine\, CA\, 92697\, United States
CATEGORIES:Scientific
ATTACH;FMTTYPE=image/png:https://brain.uci.edu/wp-content/uploads/sites/49/2024/01/CFAR_DS-_Seminar_Wiseman_Feb2024_.png
END:VEVENT
BEGIN:VEVENT
DTSTART;TZID=America/Los_Angeles:20240227T100000
DTEND;TZID=America/Los_Angeles:20240227T110000
DTSTAMP:20260421T031403
CREATED:20240125T201508Z
LAST-MODIFIED:20240125T234503Z
UID:10000464-1709028000-1709031600@brain.uci.edu
SUMMARY:Yimin Zou\, PhD
DESCRIPTION:Professor in the Department of Neurobiology of UCSD Yimin Zou\, PhD presents: \n“Planar cell polarity proteins in glutamatergic synapse formation and maintenance” \nHybrid: ISEB 1200 & Zoom
URL:https://brain.uci.edu/event/yimin-zou-phd/
LOCATION:Interdisciplinary Science and Engineering Building (ISEB) and Virtually Via Zoom\, 419 Physical Sciences Quad\, Irvine\, 92697\, United States
ATTACH;FMTTYPE=image/png:https://brain.uci.edu/wp-content/uploads/sites/49/2024/01/Untitled-design-14.png
END:VEVENT
BEGIN:VEVENT
DTSTART;TZID=America/Los_Angeles:20240227T160000
DTEND;TZID=America/Los_Angeles:20240227T170000
DTSTAMP:20260421T031403
CREATED:20240125T215546Z
LAST-MODIFIED:20240125T233826Z
UID:10000466-1709049600-1709053200@brain.uci.edu
SUMMARY:Seth Pollak\, PhD
DESCRIPTION:Join Seth Pollak\, PhD for his talk at the UCI Conte Center Seminar Series \n“Re-thinking Adversity: Early Life Stress from the Child’s Perspective” by Seth Pollak\, PhD\, Vaughan-Bascom Distinguished Professor\, Department of Psychology\, Pediatrics\, Anthropology; LaFollette School of Public Affairs\, University of Wisconsin – Madison
URL:https://brain.uci.edu/event/uci-conte-center-seminar-series-with-seth-pollak-phd/
LOCATION:Plumwood/Showa Denko Lecture Hall
ATTACH;FMTTYPE=image/png:https://brain.uci.edu/wp-content/uploads/sites/49/2024/01/Untitled-design-9.png
END:VEVENT
END:VCALENDAR