BEGIN:VCALENDAR
VERSION:2.0
PRODID:-//Brain - ECPv6.15.18//NONSGML v1.0//EN
CALSCALE:GREGORIAN
METHOD:PUBLISH
X-ORIGINAL-URL:https://brain.uci.edu
X-WR-CALDESC:Events for Brain
REFRESH-INTERVAL;VALUE=DURATION:PT1H
X-Robots-Tag:noindex
X-PUBLISHED-TTL:PT1H
BEGIN:VTIMEZONE
TZID:America/Los_Angeles
BEGIN:DAYLIGHT
TZOFFSETFROM:-0800
TZOFFSETTO:-0700
TZNAME:PDT
DTSTART:20240310T100000
END:DAYLIGHT
BEGIN:STANDARD
TZOFFSETFROM:-0700
TZOFFSETTO:-0800
TZNAME:PST
DTSTART:20241103T090000
END:STANDARD
BEGIN:DAYLIGHT
TZOFFSETFROM:-0800
TZOFFSETTO:-0700
TZNAME:PDT
DTSTART:20250309T100000
END:DAYLIGHT
BEGIN:STANDARD
TZOFFSETFROM:-0700
TZOFFSETTO:-0800
TZNAME:PST
DTSTART:20251102T090000
END:STANDARD
BEGIN:DAYLIGHT
TZOFFSETFROM:-0800
TZOFFSETTO:-0700
TZNAME:PDT
DTSTART:20260308T100000
END:DAYLIGHT
BEGIN:STANDARD
TZOFFSETFROM:-0700
TZOFFSETTO:-0800
TZNAME:PST
DTSTART:20261101T090000
END:STANDARD
END:VTIMEZONE
BEGIN:VEVENT
DTSTART;TZID=America/Los_Angeles:20250204T193000
DTEND;TZID=America/Los_Angeles:20250204T203000
DTSTAMP:20260421T051153
CREATED:20241210T200356Z
LAST-MODIFIED:20241210T200356Z
UID:10000639-1738697400-1738701000@brain.uci.edu
SUMMARY:Michael A. Yassa\, Ph.D
DESCRIPTION:Alzheimer’s disease impacts more than 6 million people in the United States alone. Join the UC Irvine Center for the Neurobiology of Learning and Memory on February 4\, 2025\, for the 27th Distinguished Lecture on Brain\, Learning\, and Memory\, presented by Dr. Michael Yassa. His lecture\, titled “The Beginning of the End for Alzheimer’s Disease\,” will delve into groundbreaking research and future directions in the fight against this devastating condition. \nIn this program\, you will discover: \n\nThe latest advances in Alzheimer’s disease research\nStrategies to protect and maintain a healthy brain as we age\nEmerging treatments offering hope for those affected by Alzheimer’s\n\nDr. Michael Yassa is a Neuroscience Professor and the James L. McGaugh Endowed Chair in the Neurobiology of Learning and Memory at the University of California\, Irvine. Since 2016\, he has served as the director of UCI’s world-renowned Center for the Neurobiology of Learning and Memory.
URL:https://brain.uci.edu/event/michael-a-yassa-ph-d/
LOCATION:Irvine Barclay Theater\, 4242 Campus Drive\, Irvine\, CA\, 92612\, United States
ATTACH;FMTTYPE=image/png:https://brain.uci.edu/wp-content/uploads/sites/49/2024/12/Untitled-design-2.png
ORGANIZER;CN="UC Irvine Center for the Neurobiology of Learning &amp%3B Memory":MAILTO:memory@uci.edu
END:VEVENT
BEGIN:VEVENT
DTSTART;TZID=America/Los_Angeles:20250211T080000
DTEND;TZID=America/Los_Angeles:20250211T170000
DTSTAMP:20260421T051153
CREATED:20240205T214026Z
LAST-MODIFIED:20240827T161244Z
UID:10000488-1739260800-1739293200@brain.uci.edu
SUMMARY:William Allen\, PhD
DESCRIPTION:The Center for Neural Circuit Mapping will host guest speaker Dr. William Allen\, Junior Fellow in the Harvard Society of Fellows\, Harvard University.
URL:https://brain.uci.edu/event/william-allen-phd/
LOCATION:Interdisciplinary Science and Engineering Building (ISEB) and Virtually Via Zoom\, 419 Physical Sciences Quad\, Irvine\, 92697\, United States
ATTACH;FMTTYPE=image/png:https://brain.uci.edu/wp-content/uploads/sites/49/2024/02/Untitled-design-8.png
END:VEVENT
BEGIN:VEVENT
DTSTART;TZID=America/Los_Angeles:20250211T110000
DTEND;TZID=America/Los_Angeles:20250211T120000
DTSTAMP:20260421T051153
CREATED:20240925T230557Z
LAST-MODIFIED:20241202T184542Z
UID:10000594-1739271600-1739275200@brain.uci.edu
SUMMARY:Shahrdad Lotfipour\, Ph.D.
DESCRIPTION:Join the Center for the Neurobiology of Learning and Memory (CNLM) for a hybrid event featuring Dr. Shahrdad Lotfipour\, Associate Professor of Emergency Medicine and Pharmaceutical Sciences at the University of California\, Irvine. \nMolecular neurobiology of adolescent nicotine use \nAdolescence is a critical period for brain development\, particularly in systems underlying reward and addiction. My lab’s research focuses on understanding how genetic and environmental factors interact to influence adolescent nicotine use\, co-morbid substance abuse\, and relapse. Using innovative CRISPR-Cas9-generated rodent models mimicking human genetic variants\, we investigate the molecular\, neurochemical\, and behavioral mechanisms driving nicotine’s effects on reward and relapse. This talk will highlight key findings on the sex- and genotype-dependent influences of the CHRNA6 3′-UTR SNP on dopamine and norepinephrine systems\, behavioral outcomes in nicotine and methamphetamine co-use\, and nicotine-seeking behavior. These insights provide a framework for exploring targeted therapeutic strategies for adolescent substance use. \nThis event will be held in-person in the Herklotz Conference Center and virtually via Zoom.
URL:https://brain.uci.edu/event/shahrdad-lotfipour-ph-d/
LOCATION:Hybrid Event (This event will be held virtually via Zoom and In-Person in the Herkltoz Conference Room)\, 300 Qureshey Research Lab Irvine\, Irvine\, CA\, 92697\, United States
CATEGORIES:Faculty,Scientific,Staff,Students,Students, Faculty, Staff Only
ATTACH;FMTTYPE=image/png:https://brain.uci.edu/wp-content/uploads/sites/49/2024/09/Jeffrey-Krichmar-Ph.D.-12.png
ORGANIZER;CN="UCI Center for the Neurobiology of Learning and Memory":MAILTO:memory@uci.edu
END:VEVENT
BEGIN:VEVENT
DTSTART;TZID=America/Los_Angeles:20250218T100000
DTEND;TZID=America/Los_Angeles:20250218T110000
DTSTAMP:20260421T051153
CREATED:20240205T214414Z
LAST-MODIFIED:20240827T161519Z
UID:10000489-1739872800-1739876400@brain.uci.edu
SUMMARY:Oscar Marin\, PhD
DESCRIPTION:The Center for Neural Circuit Mapping will host guest speaker Dr. Oscar Marin\, Professor of Neuroscience\, Director of the Centre for Developmental Neurobiology\, and Director of the MRC Centre for Neurodevelopmental Disorders at Kings College London.
URL:https://brain.uci.edu/event/oscar-marin-phd/
LOCATION:Interdisciplinary Science and Engineering Building (ISEB) and Virtually Via Zoom\, 419 Physical Sciences Quad\, Irvine\, 92697\, United States
ATTACH;FMTTYPE=image/png:https://brain.uci.edu/wp-content/uploads/sites/49/2024/02/Untitled-design-9.png
END:VEVENT
BEGIN:VEVENT
DTSTART;TZID=America/Los_Angeles:20250218T110000
DTEND;TZID=America/Los_Angeles:20250218T120000
DTSTAMP:20260421T051153
CREATED:20240924T172623Z
LAST-MODIFIED:20240924T172623Z
UID:10000587-1739876400-1739880000@brain.uci.edu
SUMMARY:Lulu Y. Chen\, Ph.D.
DESCRIPTION:Join the Center for the Neurobiology of Learning and Memory (CNLM) for a hybrid event featuring Dr. Lulu Y. Chen\, Associate Professor of Anatomy and Neurobiology at the University of California\, Irvine. \nThis event will be held in-person in the Herklotz Conference Center and virtually via Zoom.
URL:https://brain.uci.edu/event/lulu-y-chen-ph-d-2/
LOCATION:Hybrid Event (This event will be held virtually via Zoom and In-Person in the Herkltoz Conference Room)\, 300 Qureshey Research Lab Irvine\, Irvine\, CA\, 92697\, United States
CATEGORIES:Faculty,Scientific,Staff,Students,Students, Faculty, Staff Only
ATTACH;FMTTYPE=image/png:https://brain.uci.edu/wp-content/uploads/sites/49/2024/09/Jeffrey-Krichmar-Ph.D.-4.png
ORGANIZER;CN="UCI Center for the Neurobiology of Learning and Memory":MAILTO:memory@uci.edu
END:VEVENT
BEGIN:VEVENT
DTSTART;TZID=America/Los_Angeles:20250219T090000
DTEND;TZID=America/Los_Angeles:20250219T100000
DTSTAMP:20260421T051153
CREATED:20241029T190311Z
LAST-MODIFIED:20241030T163826Z
UID:10000615-1739955600-1739959200@brain.uci.edu
SUMMARY:Kristin Bass\, Ph.D.
DESCRIPTION:The Center for the Neurobiology of Learning & Memory (CNLM) will host guest speaker Dr. Kristin Bass\, Director of Research Development at Rockman et. al Cooperative\, SciEd Organizer\, and Co-Editor-Journal of STEM Outreach\, for their CONNECT Series. \nEvaluating Outreach Programs with Meaningful Data \nHow do you know your outreach programs are making a difference? How can you make your programs better? In this seminar we’ll discuss how to design\, collect\, and use evaluation data to develop impactful outreach programs and share that impact with others in your community. I’ll present a general\, step-by-step evaluation process along with some tips and tricks. Questions will be welcomed and encouraged!
URL:https://brain.uci.edu/event/kristin-bass-ph-d/
LOCATION:Virtual via Zoom\, CA
ATTACH;FMTTYPE=image/png:https://brain.uci.edu/wp-content/uploads/sites/49/2024/10/Untitled-design-42.png
ORGANIZER;CN="UC Irvine Center for the Neurobiology of Learning &amp%3B Memory":MAILTO:memory@uci.edu
END:VEVENT
BEGIN:VEVENT
DTSTART;TZID=America/Los_Angeles:20250225T100000
DTEND;TZID=America/Los_Angeles:20250225T110000
DTSTAMP:20260421T051153
CREATED:20240205T214720Z
LAST-MODIFIED:20240625T144856Z
UID:10000490-1740477600-1740481200@brain.uci.edu
SUMMARY:Theodore Price\, PhD
DESCRIPTION:The Center for Neural Circuit Mapping will host guest speaker Dr. Theodore Price\, Director of Center for Advanced Pain Studies (CAPS) at the University of Texas\, Dallas.
URL:https://brain.uci.edu/event/theodore-price-phd/
LOCATION:Interdisciplinary Science and Engineering Building (ISEB) and Virtually Via Zoom\, 419 Physical Sciences Quad\, Irvine\, 92697\, United States
ATTACH;FMTTYPE=image/png:https://brain.uci.edu/wp-content/uploads/sites/49/2024/02/Untitled-design-45.png
END:VEVENT
END:VCALENDAR