BEGIN:VCALENDAR
VERSION:2.0
PRODID:-//Brain - ECPv6.15.18//NONSGML v1.0//EN
CALSCALE:GREGORIAN
METHOD:PUBLISH
X-WR-CALNAME:Brain
X-ORIGINAL-URL:https://brain.uci.edu
X-WR-CALDESC:Events for Brain
REFRESH-INTERVAL;VALUE=DURATION:PT1H
X-Robots-Tag:noindex
X-PUBLISHED-TTL:PT1H
BEGIN:VTIMEZONE
TZID:America/Los_Angeles
BEGIN:DAYLIGHT
TZOFFSETFROM:-0800
TZOFFSETTO:-0700
TZNAME:PDT
DTSTART:20210314T100000
END:DAYLIGHT
BEGIN:STANDARD
TZOFFSETFROM:-0700
TZOFFSETTO:-0800
TZNAME:PST
DTSTART:20211107T090000
END:STANDARD
BEGIN:DAYLIGHT
TZOFFSETFROM:-0800
TZOFFSETTO:-0700
TZNAME:PDT
DTSTART:20220313T100000
END:DAYLIGHT
BEGIN:STANDARD
TZOFFSETFROM:-0700
TZOFFSETTO:-0800
TZNAME:PST
DTSTART:20221106T090000
END:STANDARD
BEGIN:DAYLIGHT
TZOFFSETFROM:-0800
TZOFFSETTO:-0700
TZNAME:PDT
DTSTART:20230312T100000
END:DAYLIGHT
BEGIN:STANDARD
TZOFFSETFROM:-0700
TZOFFSETTO:-0800
TZNAME:PST
DTSTART:20231105T090000
END:STANDARD
BEGIN:DAYLIGHT
TZOFFSETFROM:-0800
TZOFFSETTO:-0700
TZNAME:PDT
DTSTART:20240310T100000
END:DAYLIGHT
BEGIN:STANDARD
TZOFFSETFROM:-0700
TZOFFSETTO:-0800
TZNAME:PST
DTSTART:20241103T090000
END:STANDARD
BEGIN:DAYLIGHT
TZOFFSETFROM:-0800
TZOFFSETTO:-0700
TZNAME:PDT
DTSTART:20250309T100000
END:DAYLIGHT
BEGIN:STANDARD
TZOFFSETFROM:-0700
TZOFFSETTO:-0800
TZNAME:PST
DTSTART:20251102T090000
END:STANDARD
END:VTIMEZONE
BEGIN:VEVENT
DTSTART;TZID=America/Los_Angeles:20240516T110000
DTEND;TZID=America/Los_Angeles:20240516T120000
DTSTAMP:20260421T125015
CREATED:20240409T211009Z
LAST-MODIFIED:20240409T213139Z
UID:10000518-1715857200-1715860800@brain.uci.edu
SUMMARY:Samantha Butler\, PhD
DESCRIPTION:“Revisiting the role(s) of netrin1 in the establishment of spinal cord circuitry.” \nThe department of Developmental and Cell Biology is hosting Dr Samantha Butler in their weekly seminar series. Dr Butler is the Eleanor I. Leslie Chair in Pioneering Brain Research; a professor in the UCLA Department of Neurobiology as well as the vice chair for Equity\, Diversity\, and Inclusion; a member of the UCLA Eli and Edythe Broad Center of Regenerative Medicine & Stem Cell Research\, the Intellectual & Developmental Disabilities Research Center\, and the David Geffen School of Medicine at UCLA.
URL:https://brain.uci.edu/event/samantha-butler-phd/
LOCATION:4201 Natural Sciences II\, Irvine\, CA 92697\, Irvine\, CA\, 92697\, United States
CATEGORIES:Faculty,Scientific,Students
ATTACH;FMTTYPE=image/png:https://brain.uci.edu/wp-content/uploads/sites/49/2024/04/Untitled-design.png
END:VEVENT
BEGIN:VEVENT
DTSTART;TZID=America/Los_Angeles:20220421T110000
DTEND;TZID=America/Los_Angeles:20220421T170000
DTSTAMP:20260421T125015
CREATED:20220415T185457Z
LAST-MODIFIED:20220415T185611Z
UID:10000315-1650538800-1650560400@brain.uci.edu
SUMMARY:"How neurons encode memory: Mechanisms of memory formation and persistence"
DESCRIPTION:Abstract: \nLearning and memory are essential for day-to-day living. Equally important\, their alterations are thoughtto underlie neurological and neurodegenerative disorders. Prior work in the field has found many key features of learning and memory—including long-term potentiation and memory engram neurons. However\, many gaps in knowledge remain\, particularly mechanisms at the molecular level. Here\, I will discuss how postsynaptic proteins mediate memory formation and persistence and how they can be modified to improve memory ability. \n\nIf you are unable to join the seminar in person feel free to connect to our live stream via zoom. \n \nMeeting ID: 935 0482 6445\nPassword: 754037
URL:https://brain.uci.edu/event/how-neurons-encode-memory-mechanisms-of-memory-formation-and-persistence/
LOCATION:4201 Natural Sciences II\, Irvine\, CA 92697\, Irvine\, CA\, 92697\, United States
CATEGORIES:All
ATTACH;FMTTYPE=image/png:https://brain.uci.edu/wp-content/uploads/sites/49/2022/04/Dr.-Joongkyu-Park-Assistant-Professor-Wayne-State-University.png
END:VEVENT
END:VCALENDAR